BEGIN:VCALENDAR
VERSION:2.0
PRODID:icalendar-ruby
CALSCALE:GREGORIAN
METHOD:PUBLISH
BEGIN:VEVENT
DTSTAMP:20260421T220607Z
UID:10-293624@fbcperkins.org
DTSTART:20261021T230000Z
DTEND:20261022T004500Z
CLASS:PUBLIC
CREATED:20260421T151041
DESCRIPTION:Our Grief Share Group meets for 13 weeks\, first in January and
  then in August\, on Wednesday's between 6:00-7:45 in Room 102.
LAST-MODIFIED:20260421T151041
LOCATION:Room 102
SUMMARY:Grief Share
URL;VALUE=URI:https://www.fbcperkins.org/events/grief-share/2026-10-21
ATTACH;FILENAME=IMG_6294.PNG;FMTTYPE=image/png:https://dq5pwpg1q8ru0.cloudf
 ront.net/2025/08/21/16/17/54/366577c7-17f4-4fc3-99f9-a26fb343757d/IMG_6294
 .PNG
END:VEVENT
END:VCALENDAR
