BEGIN:VCALENDAR
VERSION:2.0
PRODID:icalendar-ruby
CALSCALE:GREGORIAN
METHOD:PUBLISH
BEGIN:VEVENT
DTSTAMP:20260422T005836Z
UID:6-293707@fbcperkins.org
DTSTART:20261025T153000Z
DTEND:20261025T164500Z
CLASS:PUBLIC
CREATED:20260421T174904
DESCRIPTION:Come and join us for Worship &amp\; Service!
LAST-MODIFIED:20260421T174904
LOCATION:Main Chapel
SUMMARY:Sunday Morning Service
URL;VALUE=URI:https://www.fbcperkins.org/events/sunday-morning-service/2026
 -10-25
ATTACH;FILENAME=Livestream Title Card.png;FMTTYPE=image/png:https://dq5pwpg
 1q8ru0.cloudfront.net/2025/04/02/19/05/03/616c7223-7e95-48b9-beb2-30248a7a
 0a03/Livestream%20Title%20Card.png
END:VEVENT
END:VCALENDAR
